BEGIN:VCALENDAR
VERSION:2.0
PRODID:-//Odoo//Event//EN
CALSCALE:GREGORIAN
METHOD:PUBLISH
BEGIN:VEVENT
UID:11934@ewomennetwork.com
DTSTAMP:20260422T024726Z
DTSTART:20261118T223000Z
DTEND:20261119T003000Z
SUMMARY:Equilibrium: Unleashing the Secrets to Work-Life Balance for Women
DESCRIPTION:Event Name: Equilibrium: Unleashing the Secrets to Work-Life Balance for Women
LOCATION:The Hollow at Manchester Country Club
END:VEVENT
END:VCALENDAR
