BEGIN:VCALENDAR
VERSION:2.0
PRODID:-//Odoo//Event//EN
CALSCALE:GREGORIAN
METHOD:PUBLISH
BEGIN:VEVENT
UID:12622@ewomennetwork.com
DTSTAMP:20260423T054942Z
DTSTART:20261014T160000Z
DTEND:20261014T183000Z
SUMMARY:What's Your Blue?
DESCRIPTION:Event Name: What's Your Blue?
LOCATION:Western Racquet Club
END:VEVENT
END:VCALENDAR
